View In:
ArcGIS JavaScript
ArcGIS Online Map Viewer
ArcGIS Earth
ArcGIS Pro
Service Description: <p style='margin-top:0px; margin-bottom:0.75rem; max-width:100%; font-family:"Avenir Next W01", "Avenir Next W00", "Avenir Next", Avenir, "Helvetica Neue", sans-serif; font-size:16px;'><span style='max-width:100%; display:inherit;'>Aerial imagery of the Queenstown Lakes District, comprising multiple datasets (District-wide 2018/19, Wakatipu 2021, Upper Clutha 2022, Cardrona 2025, Kingston 2025)</span></p><div><b><span style='font-size:12.0pt; font-family:"Aptos",sans-serif;'>Last reviewed: 2025-12-01 </span></b></div>
Map Name: QLDC Aerial Imagery
Legend
All Layers and Tables
Dynamic Legend
Dynamic All Layers
Layers:
Description: Aerial imagery of the Queenstown Lakes District, comprising multiple datasets (District-wide 2018/19, Wakatipu 2021, Upper Clutha 2022, Cardrona 2025, Kingston 2025)Last reviewed: 2025-12-01
Service Item Id: 5173d2e785f848738f0af4775238fdb3
Copyright Text:
Spatial Reference:
2193
(2193)
LatestVCSWkid(0)
Single Fused Map Cache: true
Tile Info:
- Height: 256.0
- Width: 256.0
- DPI: 96.0
-
Levels of Detail: 24
-
Level ID: 0
[ Start Tile, End Tile ]
- Resolution: 156543.03392799935
- Scale: 5.91657527591552E8
-
Level ID: 1
[ Start Tile, End Tile ]
- Resolution: 78271.51696399967
- Scale: 2.95828763795776E8
-
Level ID: 2
[ Start Tile, End Tile ]
- Resolution: 39135.75848199984
- Scale: 1.47914381897888E8
-
Level ID: 3
[ Start Tile, End Tile ]
- Resolution: 19567.87924099992
- Scale: 7.3957190948944E7
-
Level ID: 4
[ Start Tile, End Tile ]
- Resolution: 9783.93962049996
- Scale: 3.6978595474472E7
-
Level ID: 5
[ Start Tile, End Tile ]
- Resolution: 4891.96981024998
- Scale: 1.8489297737236E7
- Format: MIXED
- Compression Quality: 75.0
- Origin: X: -4020900.0
Y: 1.99981E7
- Spatial Reference: 2193
(2193)
LatestVCSWkid(0)
Storage Info:
- Storage Format: esriMapCacheStorageModeCompactV2
- Packet Size: 128
Initial Extent:
XMin: 1248742.0504710304
YMin: 5016186.34612055
XMax: 1248769.675842812
YMax: 5016205.461731245
Spatial Reference: 2193
(2193)
LatestVCSWkid(0)
Full Extent:
XMin: 1203999.9999996137
YMin: 4963199.999999601
XMax: 1345600.0
YMax: 5134421.649999602
Spatial Reference: 2193
(2193)
LatestVCSWkid(0)
Units: esriMeters
Supported Image Format Types: PNG32,PNG24,PNG,JPG,DIB,TIFF,EMF,PS,PDF,GIF,SVG,SVGZ,BMP
Document Info:
Title: Map
Author:
Comments:
Subject:
Category:
Keywords: QLDC,Imagery,Aerial Imagery,Basemaps,Aerial Photography
AntialiasingMode: Fast
TextAntialiasingMode: Force
Supports Dynamic Layers: true
Resampling: false
MaxRecordCount: 2000
MaxSelectionCount: 2000
MaxImageHeight: 4096
MaxImageWidth: 4096
Supported Query Formats: JSON, geoJSON, PBF
Supports Query Data Elements: true
Min Scale: 2311162.217155
Max Scale: 282.124294
Min LOD: 0
Max LOD: 63
Supports Datum Transformation: true
Child Resources:
Info
Dynamic Layer
Supported Operations:
Export Map
Identify
QueryLegends
QueryDomains
Find
EstimateExportTilesSize
ExportTiles
Return Updates