{ "currentVersion": 11.5, "cimVersion": "3.5.0", "serviceDescription": "

Aerial imagery of the Queenstown Lakes District, comprising multiple datasets (District-wide 2018/19, Wakatipu 2021, Upper Clutha 2022, Cardrona 2025, Kingston 2025)<\/span><\/p>
Last reviewed: 2025-12-01 <\/span><\/b><\/div>", "mapName": "QLDC Aerial Imagery", "description": "Aerial imagery of the Queenstown Lakes District, comprising multiple datasets (District-wide 2018/19, Wakatipu 2021, Upper Clutha 2022, Cardrona 2025, Kingston 2025)Last reviewed: 2025-12-01 ", "copyrightText": "", "supportsDynamicLayers": true, "layers": [ { "id": 0, "name": "QLDC Aerial Imagery", "parentLayerId": -1, "defaultVisibility": true, "subLayerIds": [ 1, 2, 3 ], "minScale": 0, "maxScale": 0, "type": "Mosaic Layer", "supportsDynamicLegends": false }, { "id": 1, "name": "Boundary", "parentLayerId": 0, "defaultVisibility": false, "subLayerIds": null, "minScale": 0, "maxScale": 0, "type": "Feature Layer", "geometryType": "esriGeometryPolygon", "supportsDynamicLegends": true }, { "id": 2, "name": "Footprint", "parentLayerId": 0, "defaultVisibility": false, "subLayerIds": null, "minScale": 0, "maxScale": 0, "type": "Feature Layer", "geometryType": "esriGeometryPolygon", "supportsDynamicLegends": true }, { "id": 3, "name": "Image", "parentLayerId": 0, "defaultVisibility": true, "subLayerIds": null, "minScale": 0, "maxScale": 0, "type": "Raster Layer", "supportsDynamicLegends": true } ], "tables": [], "spatialReference": { "wkid": 2193, "latestWkid": 2193, "xyTolerance": 0.001, "zTolerance": 0.001, "mTolerance": 0.001, "falseX": -4020900, "falseY": 1900, "xyUnits": 10000, "falseZ": -100000, "zUnits": 10000, "falseM": -100000, "mUnits": 10000 }, "singleFusedMapCache": true, "tileInfo": { "rows": 256, "cols": 256, "dpi": 96, "format": "MIXED", "compressionQuality": 75, "origin": { "x": -4020900, "y": 19998100 }, "spatialReference": { "wkid": 2193, "latestWkid": 2193, "xyTolerance": 0.001, "zTolerance": 0.001, "mTolerance": 0.001, "falseX": -4020900, "falseY": 1900, "xyUnits": 10000, "falseZ": -100000, "zUnits": 10000, "falseM": -100000, "mUnits": 10000 }, "lods": [ { "level": 0, "resolution": 156543.03392799935, "scale": 5.91657527591552E8 }, { "level": 1, "resolution": 78271.51696399967, "scale": 2.95828763795776E8 }, { "level": 2, "resolution": 39135.75848199984, "scale": 1.47914381897888E8 }, { "level": 3, "resolution": 19567.87924099992, "scale": 7.3957190948944E7 }, { "level": 4, "resolution": 9783.93962049996, "scale": 3.6978595474472E7 }, { "level": 5, "resolution": 4891.96981024998, "scale": 1.8489297737236E7 }, { "level": 6, "resolution": 2445.98490512499, "scale": 9244648.868618 }, { "level": 7, "resolution": 1222.992452562495, "scale": 4622324.434309 }, { "level": 8, "resolution": 611.4962262813797, "scale": 2311162.217155 }, { "level": 9, "resolution": 305.74811314055756, "scale": 1155581.108577 }, { "level": 10, "resolution": 152.87405657041106, "scale": 577790.554289 }, { "level": 11, "resolution": 76.43702828507324, "scale": 288895.277144 }, { "level": 12, "resolution": 38.21851414253662, "scale": 144447.638572 }, { "level": 13, "resolution": 19.10925707126831, "scale": 72223.819286 }, { "level": 14, "resolution": 9.554628535634155, "scale": 36111.909643 }, { "level": 15, "resolution": 4.77731426794937, "scale": 18055.954822 }, { "level": 16, "resolution": 2.388657133974685, "scale": 9027.977411 }, { "level": 17, "resolution": 1.1943285668550503, "scale": 4513.988705 }, { "level": 18, "resolution": 0.5971642835598172, "scale": 2256.994353 }, { "level": 19, "resolution": 0.29858214164761665, "scale": 1128.497176 }, { "level": 20, "resolution": 0.14929107082380833, "scale": 564.248588 }, { "level": 21, "resolution": 0.07464553541190416, "scale": 282.124294 }, { "level": 22, "resolution": 0.03732276770595208, "scale": 141.062147 }, { "level": 23, "resolution": 0.01866138385297604, "scale": 70.5310735 } ] }, "storageInfo": { "storageFormat": "esriMapCacheStorageModeCompactV2", "packetSize": 128 }, "initialExtent": { "xmin": 1248742.0504710304, "ymin": 5016186.34612055, "xmax": 1248769.675842812, "ymax": 5016205.461731245, "spatialReference": { "wkid": 2193, "latestWkid": 2193, "xyTolerance": 0.001, "zTolerance": 0.001, "mTolerance": 0.001, "falseX": -4020900, "falseY": 1900, "xyUnits": 10000, "falseZ": -100000, "zUnits": 10000, "falseM": -100000, "mUnits": 10000 } }, "fullExtent": { "xmin": 1203999.9999996137, "ymin": 4963199.999999601, "xmax": 1345600, "ymax": 5134421.649999602, "spatialReference": { "wkid": 2193, "latestWkid": 2193, "xyTolerance": 0.001, "zTolerance": 0.001, "mTolerance": 0.001, "falseX": -4020900, "falseY": 1900, "xyUnits": 10000, "falseZ": -100000, "zUnits": 10000, "falseM": -100000, "mUnits": 10000 } }, "datesInUnknownTimezone": false, "minScale": 2311162.217155, "maxScale": 282.124294, "minLOD": 0, "maxLOD": 63, "units": "esriMeters", "supportedImageFormatTypes": "PNG32,PNG24,PNG,JPG,DIB,TIFF,EMF,PS,PDF,GIF,SVG,SVGZ,BMP", "documentInfo": { "Title": "Map", "Author": "", "Comments": "", "Subject": "", "Category": "", "Version": "3.5.0", "AntialiasingMode": "Fast", "TextAntialiasingMode": "Force", "Keywords": "QLDC,Imagery,Aerial Imagery,Basemaps,Aerial Photography" }, "supportsQueryDomains": true, "capabilities": "Map,Query,Data", "supportedQueryFormats": "JSON, geoJSON, PBF", "exportTilesAllowed": true, "maxExportTilesCount": 100000, "referenceScale": 0.0, "datumTransformations": [ { "geoTransforms": [ { "wkid": 1565, "latestWkid": 1565, "transformForward": false, "name": "NZGD_2000_To_WGS_1984_1" } ] } ], "supportsDatumTransformation": true, "floorAwareMapProperties": { "defaultFloorFilterSettings": {"isEnabled": false} }, "archivingInfo": {"supportsHistoricMoment": false}, "supportsClipping": true, "supportsSpatialFilter": true, "supportsTimeRelation": true, "supportsQueryDataElements": true, "mapUnits": {"uwkid": 9001}, "maxSelectionCount": 2000, "maxRecordCount": 2000, "maxImageHeight": 4096, "maxImageWidth": 4096, "supportedExtensions": "", "resampling": false, "serviceItemId": "5173d2e785f848738f0af4775238fdb3" }