View In:
ArcGIS JavaScript
ArcGIS Online Map Viewer
ArcGIS Earth
ArcGIS Pro
Service Description: <p style='margin-top:0px; margin-bottom:0.75rem; max-width:100%; font-family:"Avenir Next W01", "Avenir Next W00", "Avenir Next", Avenir, "Helvetica Neue", sans-serif; font-size:16px;'><span style='max-width:100%; display:inherit;'>The most recent imagery of cemeteries in the Queenstown-Lakes District:</span></p><div><br /></div><div>Kingston (2019)</div><div>Makarora (2020)</div><div>Wanaka (2020)</div><div>Queenstown (2021)</div><div>Arrowtown (2023)<br /><br /></div><div><br /></div>
Map Name: Cemetery Imagery
Legend
All Layers and Tables
Dynamic Legend
Dynamic All Layers
Layers:
Description: The most recent imagery of cemeteries in the Queenstown-Lakes District:Kingston (2019)Makarora (2020)Wanaka (2020)Queenstown (2021)Arrowtown (2023)
Service Item Id: c6cac7ec7f3a4a92a08222f7e3edbac2
Copyright Text:
Spatial Reference:
2193
(2193)
LatestVCSWkid(0)
Single Fused Map Cache: true
Tile Info:
- Height: 256.0
- Width: 256.0
- DPI: 96.0
-
Levels of Detail: 24
-
Level ID: 0
[ Start Tile, End Tile ]
- Resolution: 156543.03392799935
- Scale: 5.91657527591552E8
-
Level ID: 1
[ Start Tile, End Tile ]
- Resolution: 78271.51696399967
- Scale: 2.95828763795776E8
-
Level ID: 2
[ Start Tile, End Tile ]
- Resolution: 39135.75848199984
- Scale: 1.47914381897888E8
-
Level ID: 3
[ Start Tile, End Tile ]
- Resolution: 19567.87924099992
- Scale: 7.3957190948944E7
-
Level ID: 4
[ Start Tile, End Tile ]
- Resolution: 9783.93962049996
- Scale: 3.6978595474472E7
-
Level ID: 5
[ Start Tile, End Tile ]
- Resolution: 4891.96981024998
- Scale: 1.8489297737236E7
- Format: MIXED
- Compression Quality: 90.0
- Origin: X: -4020900.0
Y: 1.99981E7
- Spatial Reference: 2193
(2193)
LatestVCSWkid(0)
Storage Info:
- Storage Format: esriMapCacheStorageModeCompactV2
- Packet Size: 128
Initial Extent:
XMin: 1257660.4686881208
YMin: 5004418.89402567
XMax: 1257881.6705928927
YMax: 5004720.76359755
Spatial Reference: 2193
(2193)
LatestVCSWkid(0)
Full Extent:
XMin: 1257670.523320156
YMin: 4970601.868851699
XMax: 1305116.0485157862
YMax: 5089626.8089202
Spatial Reference: 2193
(2193)
LatestVCSWkid(0)
Units: esriMeters
Supported Image Format Types: PNG32,PNG24,PNG,JPG,DIB,TIFF,EMF,PS,PDF,GIF,SVG,SVGZ,BMP
Document Info:
Title: Map
Author:
Comments:
Subject:
Category:
Keywords: QLDC,Open Spaces,Parks,Cemeteries,Imagery
AntialiasingMode: Fast
TextAntialiasingMode: Force
Supports Dynamic Layers: true
MaxRecordCount: 2000
MaxSelectionCount: 2000
MaxImageHeight: 4096
MaxImageWidth: 4096
Supported Query Formats: JSON, geoJSON, PBF
Supports Query Data Elements: true
Min Scale: 36111.909643
Max Scale: 70.5310735
Min LOD: 14
Max LOD: 23
Supports Datum Transformation: true
Child Resources:
Info
Dynamic Layer
Supported Operations:
Export Map
Identify
QueryLegends
QueryDomains
Find
EstimateExportTilesSize
ExportTiles
Return Updates