View In:
ArcGIS JavaScript
ArcGIS Online Map Viewer
ArcGIS Earth
Service Description: Basemaps/Urban_Elevation_Modified
Name: Basemaps/Urban_Elevation_Modified
Description:
Single Fused Map Cache: true
Tile Info:
- Height: 256
- Width: 256
- DPI: 96
-
Levels of Detail: 24
-
Level ID: 0
[ Start Tile, End Tile ]
- Resolution: 156543.03392799935
- Scale: 5.91657527591552E8
-
Level ID: 1
[ Start Tile, End Tile ]
- Resolution: 78271.51696399967
- Scale: 2.95828763795776E8
-
Level ID: 2
[ Start Tile, End Tile ]
- Resolution: 39135.75848199984
- Scale: 1.47914381897888E8
-
Level ID: 3
[ Start Tile, End Tile ]
- Resolution: 19567.87924099992
- Scale: 7.3957190948944E7
-
Level ID: 4
[ Start Tile, End Tile ]
- Resolution: 9783.93962049996
- Scale: 3.6978595474472E7
-
Level ID: 5
[ Start Tile, End Tile ]
- Resolution: 4891.96981024998
- Scale: 1.8489297737236E7
- Format: LERC
- Compression Quality: 0.0
- LERC Error: 0.05
- Origin: X: -4020900.0
Y: 1.99981E7
- Spatial Reference: 2193
(2193)
LatestVCSWkid(0)
Storage Info:
- Storage Format: esriMapCacheStorageModeCompactV2
- Packet Size: 128
Extent:
XMin: 1228745.0
YMin: 4966987.0
XMax: 1306798.0
YMax: 5055293.0
Spatial Reference: 2193
(2193)
VCSWkid(7839)
LatestVCSWkid(7839)
Initial Extent:
XMin: 1228745.0
YMin: 4966987.0
XMax: 1306798.0
YMax: 5055293.0
Spatial Reference: 2193
(2193)
VCSWkid(7839)
LatestVCSWkid(7839)
Full Extent:
XMin: 1228745.0
YMin: 4966987.0
XMax: 1306798.0
YMax: 5055293.0
Spatial Reference: 2193
(2193)
VCSWkid(7839)
LatestVCSWkid(7839)
Pixel Size X: 1.0
Pixel Size Y: 1.0
Band Count: 1
Pixel Type: F32
RasterFunction Infos: {"rasterFunctionInfos": [{
"name": "None",
"description": "",
"help": ""
}]}
Mensuration Capabilities: Basic
Inspection Capabilities:
Has Histograms: true
Has Colormap: false
Has Multi Dimensions : false
Rendering Rule:
Min Scale: 5.91657527591552E8
Max Scale: 2256.994353
Resampling: false
Copyright Text:
Service Data Type: esriImageServiceDataTypeGeneric
Min Values: 263.0010070800781
Max Values: 2316.929931640625
Mean Values: 577.3490842731802
Standard Deviation Values: 361.0459265100169
Object ID Field:
Fields:
None
Default Mosaic Method: Center
Allowed Mosaic Methods:
SortField:
SortValue: null
Mosaic Operator: First
Default Compression Quality: 75
Default Resampling Method: Bilinear
Max Record Count: null
Max Image Height: 4100
Max Image Width: 15000
Max Download Image Count: null
Max Mosaic Image Count: null
Allow Raster Function: true
Allow Copy: true
Allow Analysis: true
Allow Compute TiePoints: false
Supports Statistics: false
Supports Advanced Queries: false
Use StandardizedQueries: true
Raster Type Infos:
Name: Raster Dataset
Description: Supports all ArcGIS Raster Datasets
Help:
Has Raster Attribute Table: false
Edit Fields Info: null
Ownership Based AccessControl For Rasters: null
Child Resources:
Info
Histograms
Statistics
Key Properties
Legend
Raster Function Infos
Supported Operations:
Export Image
Identify
Measure
Compute Histograms
Compute Statistics Histograms
Get Samples
Compute Class Statistics
Query Boundary
Compute Pixel Location
Compute Angles
Validate
Project