{ "currentVersion": 11.5, "serviceDescription": "Aerial imagery of the Queenstown Lakes District, comprising multiple datasets (District-wide 2018/19, Wakatipu 2019, Wanaka 2018)", "serviceItemId": "950834f098764ee4a86414b9d7038d8f", "name": "Imagery/QLDC_Aerial_Imagery", "description": "

Aerial imagery of the Queenstown Lakes District, comprising multiple datasets (District-wide 2018/19, Wakatipu 2021, Upper Clutha 2022, Cardrona 2025, Kingston 2025)<\/span><\/p>
Last reviewed: 2025-12-01 <\/span><\/b><\/div>", "extent": { "xmin": 1203999.9999996137, "ymin": 4963199.999999601, "xmax": 1345599.9999996137, "ymax": 5134421.649999602, "spatialReference": { "wkid": 2193, "latestWkid": 2193 } }, "initialExtent": { "xmin": 1203999.9999996137, "ymin": 4963199.999999601, "xmax": 1345599.9999996137, "ymax": 5134421.649999602, "spatialReference": { "wkid": 2193, "latestWkid": 2193 } }, "fullExtent": { "xmin": 1203999.9999996137, "ymin": 4963199.999999601, "xmax": 1345599.9999996137, "ymax": 5134421.649999602, "spatialReference": { "wkid": 2193, "latestWkid": 2193 } }, "sortableFields": "", "bandCount": 3, "pixelType": "U8", "minValues": [ 0, 0, 0 ], "maxValues": [ 255, 255, 255 ], "meanValues": [ 86.32958898723308, 90.90611012386064, 82.65204876494113 ], "stdvValues": [ 41.595938802398244, 38.89314605163292, 33.44464732321512 ], "serviceProperties": "NorthWest<\/MosaicMethod>First<\/MosaicOperator>true<\/SortAscending><\/LockImageID>Name<\/TileOrderField>0<\/TileOrderBase>600.000000<\/AvgImageSpacingX>300.000000<\/AvgImageSpacingY>0.0<\/ViewPointX>0.0<\/ViewPointY>0.0<\/ViewPointDefShiftX>0.0<\/ViewPointDefShiftY>JPEG<\/CompressionMethod>80<\/CompressionQuality>0.010000<\/CompressionTolerance>Bilinear<\/SamplingMethod><\/ImageServiceProperties><\/ImageServer>", "allowedFields": "Name,MinPS,MaxPS,LowPS,HighPS,Tag,GroupName,ProductName,CenterX,CenterY,ZOrder,Shape.STArea(),Shape.STLength()", "hasMultidimensions": false, "pixelSizeX": 0.05, "pixelSizeY": 0.05000000000000011, "meanPixelSize": 0.05000000000000006, "datasetFormat": "AMD", "uncompressedSize": 29093982768000, "blockWidth": 2048, "blockHeight": 256, "compressionType": "None", "bandNames": [ "Band_1", "Band_2", "Band_3" ], "allowCopy": true, "allowAnalysis": true, "itemAccess": false, "inspectionCapabilities": "", "minPixelSize": 0, "maxPixelSize": 0, "copyrightText": "", "serviceDataType": "esriImageServiceDataTypeRGB", "serviceSourceType": "esriImageServiceSourceTypeMosaicDataset", "objectIdField": "OBJECTID", "fields": [ { "name": "OBJECTID", "type": "esriFieldTypeOID", "alias": "OBJECTID", "domain": null }, { "name": "Name", "type": "esriFieldTypeString", "alias": "Name", "domain": null, "length": 200 }, { "name": "MinPS", "type": "esriFieldTypeDouble", "alias": "MinPS", "domain": null }, { "name": "MaxPS", "type": "esriFieldTypeDouble", "alias": "MaxPS", "domain": null }, { "name": "LowPS", "type": "esriFieldTypeDouble", "alias": "LowPS", "domain": null }, { "name": "HighPS", "type": "esriFieldTypeDouble", "alias": "HighPS", "domain": null }, { "name": "Category", "type": "esriFieldTypeInteger", "alias": "Category", "domain": { "type": "codedValue", "name": "MosaicCatalogItemCategoryDomain", "description": "Catalog item categories.", "codedValues": [ { "name": "Unknown", "code": 0 }, { "name": "Primary", "code": 1 }, { "name": "Overview", "code": 2 }, { "name": "Unprocessed Overview", "code": 3 }, { "name": "Partial Overview", "code": 4 }, { "name": "Inactive", "code": 5 }, { "name": "Uploaded", "code": 253 }, { "name": "Incomplete", "code": 254 }, { "name": "Custom", "code": 255 } ], "mergePolicy": "esriMPTDefaultValue", "splitPolicy": "esriSPTDefaultValue" } }, { "name": "Tag", "type": "esriFieldTypeString", "alias": "Tag", "domain": null, "length": 100 }, { "name": "GroupName", "type": "esriFieldTypeString", "alias": "GroupName", "domain": null, "length": 100 }, { "name": "ProductName", "type": "esriFieldTypeString", "alias": "ProductName", "domain": null, "length": 100 }, { "name": "CenterX", "type": "esriFieldTypeDouble", "alias": "CenterX", "domain": null }, { "name": "CenterY", "type": "esriFieldTypeDouble", "alias": "CenterY", "domain": null }, { "name": "ZOrder", "type": "esriFieldTypeInteger", "alias": "ZOrder", "domain": null }, { "name": "Shape", "type": "esriFieldTypeGeometry", "alias": "Shape", "domain": null } ], "capabilities": "Image,Metadata,Pixels,Catalog,Download", "defaultMosaicMethod": "Northwest", "allowedMosaicMethods": "NorthWest", "sortField": "", "sortValue": null, "sortAscending": true, "mosaicOperator": "First", "maxDownloadSizeLimit": 4056, "defaultCompressionQuality": 80, "defaultResamplingMethod": "Bilinear", "maxImageHeight": 25000, "maxImageWidth": 25000, "maxRecordCount": 1000, "maxDownloadImageCount": 20, "maxMosaicImageCount": 50, "allowRasterFunction": true, "rasterFunctionInfos": [ { "name": "None", "description": "", "help": "" } ], "rasterTypeInfos": [ { "name": "Raster Dataset", "description": "Supports all ArcGIS Raster Datasets", "help": "" } ], "mensurationCapabilities": "None", "hasHistograms": true, "hasColormap": false, "hasRasterAttributeTable": false, "minScale": 0, "maxScale": 0, "exportTilesAllowed": false, "supportsStatistics": true, "supportsAdvancedQueries": true, "editFieldsInfo": null, "ownershipBasedAccessControlForRasters": null, "allowComputeTiePoints": false, "useStandardizedQueries": true, "advancedQueryCapabilities": { "useStandardizedQueries": true, "supportsStatistics": true, "supportsOrderBy": true, "supportsDistinct": true, "supportsPagination": true }, "spatialReference": { "wkid": 2193, "latestWkid": 2193 }, "resampling": false }